BEGIN:VCALENDAR
VERSION:2.0
PRODID:-//eventon.com NONSGML v1.0//EN
BEGIN:VEVENT
UID:69e69bc3b3e8f
DTSTAMP:20260420T213355
DTSTART:20200301T000000Z
DTEND:20200301T235900Z
LOCATION:Kindersley Composite School 606 3 St E\,  Kindersley\,  SK S0L 1S0
SUMMARY:Don Bates Pitching Clinic
DESCRIPTION: Don Bates Pitching Clinic starts March 1st\,  8th\,  15th\,  25th\,   & 29th at the Kindersley Composite School
END:VEVENT
END:VCALENDAR