BEGIN:VCALENDAR
VERSION:2.0
PRODID:-//eventon.com NONSGML v1.0//EN
BEGIN:VEVENT
UID:69e67be84eefd
DTSTAMP:20260420T191800
DTSTART:20200325T000000Z
DTEND:20200325T235900Z
LOCATION:Kindersley Composite School 606 3 St E\,  Kindersley\,  SK S0L 1S0
SUMMARY:Don Bates Pitching Clinic - POSTPONED
DESCRIPTION: Don Bates Pitching Clinic starts March 1st\,  8th\,  15th\,  25th\,   & 29th at the Kindersley Composite School
END:VEVENT
END:VCALENDAR