BEGIN:VCALENDAR
VERSION:2.0
PRODID:-//eventon.com NONSGML v1.0//EN
BEGIN:VEVENT
UID:69e6466a55b7f
DTSTAMP:20260420T152946
DTSTART:20200310T190000Z
DTEND:20200310T210000Z
LOCATION:
SUMMARY:Skating Road Show
DESCRIPTION: Kindersley Skating Clubs is proud to present the Skating Road Show – March 10th at 7:00 Pre-registration Required
END:VEVENT
END:VCALENDAR