BEGIN:VCALENDAR
VERSION:2.0
PRODID:-//eventon.com NONSGML v1.0//EN
BEGIN:VEVENT
UID:69e60f98ede05
DTSTAMP:20260420T113552
DTSTART:20200324T180000Z
DTEND:20200324T210000Z
LOCATION:Elizabeth Middle School 200 5 Ave E\,  Kindersley\,  SK S0L 1S0
SUMMARY:Softball Sask (SASKhit) Hitting Clinic - POSTPONED
DESCRIPTION: KMB Softball Sask (SASKhit) Hitting Clinic starts March 10th and runs the 24th and 31st from 6:00 – 9:00pm at the Elizabeth School - Pre-registration Required
END:VEVENT
END:VCALENDAR