BEGIN:VCALENDAR
VERSION:2.0
PRODID:-//eventon.com NONSGML v1.0//EN
BEGIN:VEVENT
UID:69e5bdd8ed5b3
DTSTAMP:20260420T054704
DTSTART:20200328T000000Z
DTEND:20200328T235900Z
LOCATION:Kindersley Composite School 606 3 St E\,  Kindersley\,  SK S0L 1S0
SUMMARY:Baseball Skills Clinic - POSTPONED
DESCRIPTION: KMB – Baseball Skills Clinic – March 14th\,  28th April 4th\,  18th – KCS - Pre-registration Required
END:VEVENT
END:VCALENDAR