BEGIN:VCALENDAR
VERSION:2.0
PRODID:-//eventon.com NONSGML v1.0//EN
BEGIN:VEVENT
UID:69e5a38ca8acc
DTSTAMP:20260420T035452
DTSTART:20200404T000000Z
DTEND:20200404T235900Z
LOCATION:Kindersley Composite School 606 3 St E\,  Kindersley\,  SK S0L 1S0
SUMMARY:Baseball Skills Clinic - POSTPONED
DESCRIPTION: KMB – Baseball Skills Clinic – March 14th\,  28th April 4th\,  18th – KCS - Pre-registration Required
END:VEVENT
END:VCALENDAR