BEGIN:VCALENDAR
VERSION:2.0
PRODID:-//eventon.com NONSGML v1.0//EN
BEGIN:VEVENT
UID:69e58111d408d
DTSTAMP:20260420T012745
DTSTART:20200418T000000Z
DTEND:20200418T235900Z
LOCATION:Kindersley Composite School 606 3 St E\,  Kindersley\,  SK S0L 1S0
SUMMARY:Baseball Skills Clinic
DESCRIPTION: KMB – Baseball Skills Clinic – March 14th\,  28th April 4th\,  18th – KCS - Pre-registration Required
END:VEVENT
END:VCALENDAR