BEGIN:VCALENDAR
VERSION:2.0
PRODID:-//eventon.com NONSGML v1.0//EN
BEGIN:VEVENT
UID:69e5627f0061d
DTSTAMP:20260419T231719
DTSTART:20200306T000000Z
DTEND:20200308T235900Z
LOCATION:
SUMMARY:Atom 2 HiWay 14 Pool B Playoff Tournament
DESCRIPTION: Kindersley Atom 2 will be hosting the HiWay 14 Pool B Playoff Tournament Starting March 6 – 8th.  Please watch the KMH facebook page for games and updates.
END:VEVENT
END:VCALENDAR