BEGIN:VCALENDAR
VERSION:2.0
PRODID:-//eventon.com NONSGML v1.0//EN
BEGIN:VEVENT
UID:69e542d9b13de
DTSTAMP:20260419T210217
DTSTART:20200315T140000Z
DTEND:20200315T160000Z
LOCATION:
SUMMARY:Skating Carnival
DESCRIPTION: Kindersley Figure Skating Club will be hosting their annual Carnival March 15th at 2:00
END:VEVENT
END:VCALENDAR