BEGIN:VCALENDAR
VERSION:2.0
PRODID:-//eventon.com NONSGML v1.0//EN
BEGIN:VEVENT
UID:69e523e0119ee
DTSTAMP:20260419T185008
DTSTART:20200404T090000Z
DTEND:20200404T160000Z
LOCATION:West Central Events Centre  500 2 St E\,  Kindersley\,  SK S0L 1S0
SUMMARY:Softball Umpire Clinic - POSTPONED
DESCRIPTION: KMB – Softball Umpire Clinic – April 4th – 9am WCEC - Pre-registration Required
END:VEVENT
END:VCALENDAR