BEGIN:VCALENDAR
VERSION:2.0
PRODID:-//eventon.com NONSGML v1.0//EN
BEGIN:VEVENT
UID:69e50b92d7684
DTSTAMP:20260419T170626
DTSTART:20200501T183000Z
DTEND:20200501T223000Z
LOCATION:Kindersley Composite School 606 3 St E\,  Kindersley\,  SK S0L 1S0
SUMMARY:Community Coaching Clinic
DESCRIPTION: KMB – Community Coaching Clinics: May 1 (6:30pm – 10:30pm) May 2 (8:30am – 5:30 pm) Kindersley Composite School Pre-registration Required
END:VEVENT
END:VCALENDAR