BEGIN:VCALENDAR
VERSION:2.0
PRODID:-//eventon.com NONSGML v1.0//EN
BEGIN:VEVENT
UID:69e4f1d05c0eb
DTSTAMP:20260419T151632
DTSTART:20200502T083000Z
DTEND:20200502T173000Z
LOCATION:Kindersley Composite School 606 3 St E\,  Kindersley\,  SK S0L 1S0
SUMMARY:Community Coaching Clinic - POSTPONED
DESCRIPTION: KMB – Community Coaching Clinics: May 1 (6:30pm – 10:30pm) May 2 (8:30am – 5:30 pm) Kindersley Composite School Pre-registration Required
END:VEVENT
END:VCALENDAR