BEGIN:VCALENDAR
VERSION:2.0
PRODID:-//eventon.com NONSGML v1.0//EN
BEGIN:VEVENT
UID:69e4dbd669c5a
DTSTAMP:20260419T134246
DTSTART:20200402T170000Z
DTEND:20200402T203000Z
LOCATION:
SUMMARY:ESSO AWARDS - Postponed!
DESCRIPTION: The annual KMH Esso Awards Night\,  hosted by Tisdale's Sales & Service was set to take place April 2nsd at the WCEC Curling Rink. This event has been postponed due to the COVID-19 outbreak. Stay Tuned for updates
END:VEVENT
END:VCALENDAR