BEGIN:VCALENDAR
VERSION:2.0
PRODID:-//eventon.com NONSGML v1.0//EN
BEGIN:VEVENT
UID:69e4c407344b9
DTSTAMP:20260419T120111
DTSTART:20200401T130000Z
DTEND:20200401T130500Z
LOCATION:
SUMMARY:Minor Ball - Registration Cheques to be cashed - POSTPONED
DESCRIPTION: Ball Registration Cheques were dated for April 1st\,  however do to the COVID-19 and the delay of the season\,  the board has decided to wait to deposit fees until April 14th when SaskBall and Sask Softball will make an announcement about how the season will proceed. Please follow the KMS[..]
END:VEVENT
END:VCALENDAR